BEGIN:VCALENDAR
VERSION:2.0
PRODID:-//Sober Recreation Committee - Houston Sober Events - ECPv6.15.20//NONSGML v1.0//EN
CALSCALE:GREGORIAN
METHOD:PUBLISH
X-WR-CALNAME:Sober Recreation Committee - Houston Sober Events
X-ORIGINAL-URL:https://srchouston.com
X-WR-CALDESC:Events for Sober Recreation Committee - Houston Sober Events
REFRESH-INTERVAL;VALUE=DURATION:PT1H
X-Robots-Tag:noindex
X-PUBLISHED-TTL:PT1H
BEGIN:VTIMEZONE
TZID:UTC
BEGIN:STANDARD
TZOFFSETFROM:+0000
TZOFFSETTO:+0000
TZNAME:UTC
DTSTART:20230101T000000
END:STANDARD
END:VTIMEZONE
BEGIN:VTIMEZONE
TZID:UTC
BEGIN:STANDARD
TZOFFSETFROM:+0000
TZOFFSETTO:+0000
TZNAME:UTC
DTSTART:20230101T000000
END:STANDARD
END:VTIMEZONE
BEGIN:VTIMEZONE
TZID:America/Chicago
BEGIN:DAYLIGHT
TZOFFSETFROM:-0600
TZOFFSETTO:-0500
TZNAME:CDT
DTSTART:20230312T080000
END:DAYLIGHT
BEGIN:STANDARD
TZOFFSETFROM:-0500
TZOFFSETTO:-0600
TZNAME:CST
DTSTART:20231105T070000
END:STANDARD
BEGIN:DAYLIGHT
TZOFFSETFROM:-0600
TZOFFSETTO:-0500
TZNAME:CDT
DTSTART:20240310T080000
END:DAYLIGHT
BEGIN:STANDARD
TZOFFSETFROM:-0500
TZOFFSETTO:-0600
TZNAME:CST
DTSTART:20241103T070000
END:STANDARD
BEGIN:DAYLIGHT
TZOFFSETFROM:-0600
TZOFFSETTO:-0500
TZNAME:CDT
DTSTART:20250309T080000
END:DAYLIGHT
BEGIN:STANDARD
TZOFFSETFROM:-0500
TZOFFSETTO:-0600
TZNAME:CST
DTSTART:20251102T070000
END:STANDARD
BEGIN:DAYLIGHT
TZOFFSETFROM:-0600
TZOFFSETTO:-0500
TZNAME:CDT
DTSTART:20260308T080000
END:DAYLIGHT
BEGIN:STANDARD
TZOFFSETFROM:-0500
TZOFFSETTO:-0600
TZNAME:CST
DTSTART:20261101T070000
END:STANDARD
BEGIN:DAYLIGHT
TZOFFSETFROM:-0600
TZOFFSETTO:-0500
TZNAME:CDT
DTSTART:20270314T080000
END:DAYLIGHT
BEGIN:STANDARD
TZOFFSETFROM:-0500
TZOFFSETTO:-0600
TZNAME:CST
DTSTART:20271107T070000
END:STANDARD
END:VTIMEZONE
BEGIN:VEVENT
DTSTART;TZID=UTC:20240406T090000
DTEND;TZID=UTC:20240406T110000
DTSTAMP:20260420T030611
CREATED:20240508T112220Z
LAST-MODIFIED:20240725T043747Z
UID:111-1712394000-1712401200@srchouston.com
SUMMARY:Pickleball 2024
DESCRIPTION:
URL:https://srchouston.com/event/pickleball-2024/
LOCATION:PKL Social\, 1112 Shepherd Drive\, Houston\, 77007\, United States
ATTACH;FMTTYPE=image/jpeg:https://srchouston.com/wp-content/uploads/2024/07/434390205_799014645607935_6595877136741467002_n.jpg
END:VEVENT
BEGIN:VEVENT
DTSTART;TZID=UTC:20240420T100000
DTEND;TZID=UTC:20240420T120000
DTSTAMP:20260420T030611
CREATED:20240508T120250Z
LAST-MODIFIED:20240725T044054Z
UID:197-1713607200-1713614400@srchouston.com
SUMMARY:Scavanger Hunt 2024
DESCRIPTION:
URL:https://srchouston.com/event/scavanger-hunt-2024/
LOCATION:The Council on Recovery\, 303 Jackson Hill St\, Houston\, TX\, 77007\, United States
ATTACH;FMTTYPE=image/jpeg:https://srchouston.com/wp-content/uploads/2024/07/2024-SRC-SCAVENGER-HUNT.jpg
END:VEVENT
BEGIN:VEVENT
DTSTART;TZID=UTC:20240504T173000
DTEND;TZID=UTC:20240504T210000
DTSTAMP:20260420T030611
CREATED:20240508T113804Z
LAST-MODIFIED:20240514T061457Z
UID:194-1714843800-1714856400@srchouston.com
SUMMARY:Bingo/Game Night 2024
DESCRIPTION:
URL:https://srchouston.com/event/bingo-game-night-2024/
LOCATION:The Hub\, 12903 Jones Rd\, Houston\, TX\, 77070\, United States
ATTACH;FMTTYPE=image/jpeg:https://srchouston.com/wp-content/uploads/2024/05/BingGameNight.jpg
ORGANIZER;CN="Sober Recreation Committee":MAILTO:srchoustontx@gmail.com
END:VEVENT
BEGIN:VEVENT
DTSTART;TZID=America/Chicago:20240630T120000
DTEND;TZID=America/Chicago:20240630T180000
DTSTAMP:20260420T030611
CREATED:20240514T053233Z
LAST-MODIFIED:20240514T053240Z
UID:218-1719748800-1719770400@srchouston.com
SUMMARY:SoberFest HTX
DESCRIPTION:
URL:https://srchouston.com/event/soberfest-htx/
LOCATION:White Oak Music Hall\, 2915 N Main St\, Houston\, TX\, 77009\, United States
ATTACH;FMTTYPE=image/jpeg:https://srchouston.com/wp-content/uploads/2024/05/SoberFestTX.jpg
END:VEVENT
BEGIN:VEVENT
DTSTART;TZID=America/Chicago:20240720T140000
DTEND;TZID=America/Chicago:20240720T160000
DTSTAMP:20260420T030611
CREATED:20240515T163750Z
LAST-MODIFIED:20240725T031154Z
UID:255-1721484000-1721491200@srchouston.com
SUMMARY:Paint Night
DESCRIPTION:
URL:https://srchouston.com/event/paint-night/
LOCATION:Paint with a Twist\, 728 W 19th St\, Houston\, TX\, 77008\, United States
ATTACH;FMTTYPE=image/png:https://srchouston.com/wp-content/uploads/2024/05/White-Orange-Watercolour-Workshop-Painting-Instagram-Post.png
ORGANIZER;CN="Sober Recreation Committee":MAILTO:srchoustontx@gmail.com
END:VEVENT
BEGIN:VEVENT
DTSTART;TZID=America/Chicago:20240907T200000
DTEND;TZID=America/Chicago:20240907T220000
DTSTAMP:20260420T030611
CREATED:20240721T035529Z
LAST-MODIFIED:20241111T043906Z
UID:261-1725739200-1725746400@srchouston.com
SUMMARY:Addicted To Comedy
DESCRIPTION:
URL:https://srchouston.com/event/addicted-to-comedy/
LOCATION:The Council on Recovery\, 303 Jackson Hill St\, Houston\, TX\, 77007\, United States
ATTACH;FMTTYPE=image/jpeg:https://srchouston.com/wp-content/uploads/2024/07/Addicted-to-Comedy-2024.jpg
ORGANIZER;CN="Sober Recreation Committee":MAILTO:srchoustontx@gmail.com
END:VEVENT
BEGIN:VEVENT
DTSTART;TZID=America/Chicago:20241102T090000
DTEND;TZID=America/Chicago:20241102T113000
DTSTAMP:20260420T030611
CREATED:20241008T225232Z
LAST-MODIFIED:20241111T045652Z
UID:369-1730538000-1730547000@srchouston.com
SUMMARY:SRC Pickleball Tournament - COED
DESCRIPTION:
URL:https://srchouston.com/event/src-pickleball-tournament-coed/
LOCATION:PKL Social\, 1112 Shepherd Drive\, Houston\, 77007\, United States
ATTACH;FMTTYPE=image/png:https://srchouston.com/wp-content/uploads/2024/10/src-recovery-mixed-doubles-coed-round-robin-Pickleball.png
ORGANIZER;CN="Sober Recreation Committee":MAILTO:srchoustontx@gmail.com
END:VEVENT
BEGIN:VEVENT
DTSTART;TZID=America/Chicago:20241207T160000
DTEND;TZID=America/Chicago:20241207T180000
DTSTAMP:20260420T030611
CREATED:20241009T001240Z
LAST-MODIFIED:20241107T025827Z
UID:378-1733587200-1733594400@srchouston.com
SUMMARY:Jingle Bell Bowling 2024
DESCRIPTION: Join SRC for an Afternoon of Laughter\, Strikes\, and Holiday Cheer! \n\nRegistration: Starts at 3:30 PMBowling: Begins promptly at 4 PMContact: Joseph for lane reservations at 713-205-6741Details: Max 6 bowlers per lane\, $25 per person\nDon’t miss out on the chance to enjoy some holiday cheer with friends and family. See you there
URL:https://srchouston.com/event/jingle-bell-bowling-2024/
LOCATION:Del Mar Lanes\, 3020 Mangum Rd\, Houston\, TX\, 77092\, United States
ATTACH;FMTTYPE=image/png:https://srchouston.com/wp-content/uploads/2024/10/Red-and-White-Illustrated-Christmas-Bowling-Night-Flyer.pdf.png
ORGANIZER;CN="Sober Recreation Committee":MAILTO:srchoustontx@gmail.com
END:VEVENT
BEGIN:VEVENT
DTSTART;TZID=America/Chicago:20250125T140000
DTEND;TZID=America/Chicago:20250125T160000
DTSTAMP:20260420T030611
CREATED:20241124T041635Z
LAST-MODIFIED:20241230T032320Z
UID:505-1737813600-1737820800@srchouston.com
SUMMARY:Tie Dye T-Shirt and Bandana Party
DESCRIPTION:
URL:https://srchouston.com/event/tie-dye-t-shirt-and-bandana-party/
LOCATION:Positive Recovery Center-Garden Oaks\, 513 Thornton Rd\, Houston\, TX\, 77018\, United States
ATTACH;FMTTYPE=image/png:https://srchouston.com/wp-content/uploads/2024/11/SRC-Tie-Dye-Party-Flyer.png
ORGANIZER;CN="Sober Recreation Committee":MAILTO:srchoustontx@gmail.com
END:VEVENT
BEGIN:VEVENT
DTSTART;TZID=America/Chicago:20250621T160000
DTEND;TZID=America/Chicago:20250621T180000
DTSTAMP:20260420T030611
CREATED:20250409T010502Z
LAST-MODIFIED:20250517T162327Z
UID:573-1750521600-1750528800@srchouston.com
SUMMARY:Game Show Studio
DESCRIPTION: Get Ready for SRC Game Night! \n\nJoin the Sober Recreation Committee for an unforgettable night of fun\, laughter\, and friendly competition\n\n Date: Saturday\, June 21\, 2025\n Location: Game Show Studio\, 125 W Gray St. #100\, Houston\, TX  Special Price: $29.99\n\nTest your skills in Wheel of Wonder\, Name That Price\, and Survey Showdown\, and enjoy an evening of exciting games and good company.\n\n How to Register: Email SRCsoberevents@gmail.com to secure your spot!\n\nParking: Available at 1709 Cushing St. with validation provided\n\nFor more details\, call Joseph at (713) 205-6741.\nWhether you’re in it to win it or just looking for a great time with friends\, this is an event you won’t want to miss! 
URL:https://srchouston.com/event/game-show-studio/
LOCATION:Game Show Studio\, 125 W Gray Street #100\, Houston\, TX\, 77019\, United States
ATTACH;FMTTYPE=image/jpeg:https://srchouston.com/wp-content/uploads/2025/04/Yellow-and-Green-Playful-Creative-Family-Game-Night-Flyer.jpg
ORGANIZER;CN="Sober Recreation Committee":MAILTO:srchoustontx@gmail.com
END:VEVENT
BEGIN:VEVENT
DTSTART;VALUE=DATE:20250802
DTEND;VALUE=DATE:20250803
DTSTAMP:20260420T030611
CREATED:20250611T000748Z
LAST-MODIFIED:20250812T234657Z
UID:592-1754092800-1754179199@srchouston.com
SUMMARY:SRC Beat the Bomb
DESCRIPTION:
URL:https://srchouston.com/event/src-beat-the-bomb/
ATTACH;FMTTYPE=image/jpeg:https://srchouston.com/wp-content/uploads/2025/06/Beat-the-bomb.jpg
END:VEVENT
BEGIN:VEVENT
DTSTART;TZID=America/Chicago:20250906T190000
DTEND;TZID=America/Chicago:20250906T220000
DTSTAMP:20260420T030611
CREATED:20241230T032550Z
LAST-MODIFIED:20250830T201001Z
UID:517-1757185200-1757196000@srchouston.com
SUMMARY:Addicted to Comedy 2025
DESCRIPTION:
URL:https://srchouston.com/event/addicted-to-comedy-2025/
LOCATION:The Council on Recovery\, 303 Jackson Hill St\, Houston\, TX\, 77007\, United States
ATTACH;FMTTYPE=image/jpeg:https://srchouston.com/wp-content/uploads/2025/08/Addicted-to-Comedy-2025-update.jpg
ORGANIZER;CN="Sober Recreation Committee":MAILTO:srchoustontx@gmail.com
END:VEVENT
BEGIN:VEVENT
DTSTART;TZID=America/Chicago:20251206T160000
DTEND;TZID=America/Chicago:20251206T180000
DTSTAMP:20260420T030611
CREATED:20251109T001310Z
LAST-MODIFIED:20251109T001310Z
UID:623-1765036800-1765044000@srchouston.com
SUMMARY:SRC JINGLE BELL BOWL
DESCRIPTION:🎅🎄 Get ready to roll into the holiday spirit! 🎳 \nThe Sober Recreation Committee (SRC) is thrilled to present the Jingle Bell Bowl! Join us for a festive afternoon of laughter\, strikes\, and awesome holiday cheer. \nWhether you’re a bowling pro or just there for the fun\, this is an event you don’t want to miss. \n🔔 THE DETAILS 🔔 \n\nWhen: Saturday\, December 6th | 4:00 PM – 6:00 PM (Registration opens at 3:30 PM\, bowling starts promptly at 4:00 PM)\nWhere: Del Mar Lanes (3020 Mangum Rd\, Houston\, TX 77092)\nCost: $25 per person\n\n** LANE RESERVATIONS ** Gather your team (max 6 bowlers per lane) and reserve your spot! Contact Joseph at 713-205-6741. \nYou can also pre-register yourself or your team! For more information\, visit SRCHOUSTON.COM or email SRCsoberevents@gmail.com. \nSee you at the lanes!
URL:https://srchouston.com/event/src-jingle-bell-bowl/
LOCATION:Del Mar Lanes\, 3020 Mangum Rd\, Houston\, TX\, 77092\, United States
ATTACH;FMTTYPE=image/png:https://srchouston.com/wp-content/uploads/2025/11/Red-and-White-Illustrated-Christmas-Bowling-Night-Flyer.png
ORGANIZER;CN="Sober Recreation Committee":MAILTO:srchoustontx@gmail.com
END:VEVENT
BEGIN:VEVENT
DTSTART;TZID=America/Chicago:20260131T140000
DTEND;TZID=America/Chicago:20260131T160000
DTSTAMP:20260420T030611
CREATED:20260113T040329Z
LAST-MODIFIED:20260113T040504Z
UID:628-1769868000-1769875200@srchouston.com
SUMMARY:TIE DYE T-SHIRT PARTY
DESCRIPTION:🎨Get Ready to Tie-Dye & Celebrate Recovery! 🎨 \nThe Sober Recreation Committee and Positive Recovery Centers invite you to a fun\, colorful\, and sober-friendly event you won’t want to miss! \n🎉 Tie Dye T-Shirt & Bandana Party 🎉📅 Saturday\, January 31st\, 2026⏰ 2:00 PM – 4:00 PM📍 Positive Recovery Centers – Garden Oaks513 Thornton Rd\, Houston\, TX 77018 \n✨ What’s included:👕 Tie-dye T-shirt & bandana🥤 Complimentary beverages & snacks🎨 Creative fun with an amazing recovery community \n💲 $20 per person📧 Email to Register : SRCsoberevents@gmail.com⚠️ T-shirt size & payment must be received by 1/19/2026 \nBring your friends\, bring your creativity\, and come enjoy a positive\, sober afternoon full of color and connection! 💙💛❤️ \n👉 Spots are limited — register today!
URL:https://srchouston.com/event/tie-dye-t-shirt-party/
ATTACH;FMTTYPE=image/jpeg:https://srchouston.com/wp-content/uploads/2026/01/2026-Tie-Dye-Event-1-1.jpg
END:VEVENT
END:VCALENDAR